BEGIN:VCALENDAR
VERSION:2.0
PRODID:-//Arcata Church Of The Nazarene - ECPv6.15.20//NONSGML v1.0//EN
CALSCALE:GREGORIAN
METHOD:PUBLISH
X-WR-CALNAME:Arcata Church Of The Nazarene
X-ORIGINAL-URL:https://arcatanazarene.org
X-WR-CALDESC:Events for Arcata Church Of The Nazarene
REFRESH-INTERVAL;VALUE=DURATION:PT1H
X-Robots-Tag:noindex
X-PUBLISHED-TTL:PT1H
BEGIN:VTIMEZONE
TZID:UTC
BEGIN:STANDARD
TZOFFSETFROM:+0000
TZOFFSETTO:+0000
TZNAME:UTC
DTSTART:20230101T000000
END:STANDARD
END:VTIMEZONE
BEGIN:VEVENT
DTSTART;TZID=UTC:20241006T180000
DTEND;TZID=UTC:20241006T190000
DTSTAMP:20260424T122723
CREATED:20240815T020816Z
LAST-MODIFIED:20240815T020816Z
UID:393-1728237600-1728241200@arcatanazarene.org
SUMMARY:Dinner & Dialogue
DESCRIPTION:Dinner & Dialogue \nElephants in the Church: Conversations We Can’t Afford To Ignore.  \n7-Week Study Meeting Sunday Evenings from September 8th- November 3rd\, 2024 at 6pm in the café.
URL:https://arcatanazarene.org/event/dinner-dialogue-5/
END:VEVENT
BEGIN:VEVENT
DTSTART;TZID=UTC:20241013T180000
DTEND;TZID=UTC:20241013T193000
DTSTAMP:20260424T122723
CREATED:20240815T021113Z
LAST-MODIFIED:20241009T062345Z
UID:395-1728842400-1728847800@arcatanazarene.org
SUMMARY:Dinner & Dialogue
DESCRIPTION:Dinner & Dialogue \nElephants in the Church: Conversations We Can’t Afford To Ignore.  \n7-Week Study Meeting Sunday Evenings from September 8th- November 3rd\, 2024 at 6pm in the café.
URL:https://arcatanazarene.org/event/dinner-dialogue-6/
END:VEVENT
BEGIN:VEVENT
DTSTART;TZID=UTC:20241020T180000
DTEND;TZID=UTC:20241020T193000
DTSTAMP:20260424T122723
CREATED:20240815T021426Z
LAST-MODIFIED:20241009T062453Z
UID:398-1729447200-1729452600@arcatanazarene.org
SUMMARY:Dinner & Dialogue
DESCRIPTION:Dinner & Dialogue \nElephants in the Church: Conversations We Can’t Afford To Ignore.  \n7-Week Study Meeting Sunday Evenings from September 8th- November 3rd\, 2024 at 6pm in the café.
URL:https://arcatanazarene.org/event/dinner-dialogue-7/
END:VEVENT
BEGIN:VEVENT
DTSTART;TZID=UTC:20241026T083000
DTEND;TZID=UTC:20241026T140000
DTSTAMP:20260424T122723
CREATED:20241009T061454Z
LAST-MODIFIED:20241011T032821Z
UID:420-1729931400-1729951200@arcatanazarene.org
SUMMARY:Strawberry Rock Hike
DESCRIPTION:Our church fam will be hitting a Humboldt County trail. We will meet at the church parking lot at 8:30am to carpool and will be back around 2pm. The hike is moderate (3.4 miles). Be sure to bring water\, a sack lunch\, and closed-toed comfortable shoes.
URL:https://arcatanazarene.org/event/strawberry-rock-hike/
END:VEVENT
BEGIN:VEVENT
DTSTART;TZID=UTC:20241027T180000
DTEND;TZID=UTC:20241027T193000
DTSTAMP:20260424T122723
CREATED:20240815T021652Z
LAST-MODIFIED:20241009T062601Z
UID:400-1730052000-1730057400@arcatanazarene.org
SUMMARY:Dinner & Dialogue
DESCRIPTION:Dinner & Dialogue \nElephants in the Church: Conversations We Can’t Afford To Ignore.  \n7-Week Study Meeting Sunday Evenings from September 8th- November 3rd\, 2024 at 6pm in the café.
URL:https://arcatanazarene.org/event/dinner-dialogue-8/
END:VEVENT
END:VCALENDAR