BEGIN:VCALENDAR
VERSION:2.0
PRODID:-//Arcata Church Of The Nazarene - ECPv6.15.20//NONSGML v1.0//EN
CALSCALE:GREGORIAN
METHOD:PUBLISH
X-WR-CALNAME:Arcata Church Of The Nazarene
X-ORIGINAL-URL:https://arcatanazarene.org
X-WR-CALDESC:Events for Arcata Church Of The Nazarene
REFRESH-INTERVAL;VALUE=DURATION:PT1H
X-Robots-Tag:noindex
X-PUBLISHED-TTL:PT1H
BEGIN:VTIMEZONE
TZID:America/Los_Angeles
BEGIN:DAYLIGHT
TZOFFSETFROM:-0800
TZOFFSETTO:-0700
TZNAME:PDT
DTSTART:20250309T100000
END:DAYLIGHT
BEGIN:STANDARD
TZOFFSETFROM:-0700
TZOFFSETTO:-0800
TZNAME:PST
DTSTART:20251102T090000
END:STANDARD
BEGIN:DAYLIGHT
TZOFFSETFROM:-0800
TZOFFSETTO:-0700
TZNAME:PDT
DTSTART:20260308T100000
END:DAYLIGHT
BEGIN:STANDARD
TZOFFSETFROM:-0700
TZOFFSETTO:-0800
TZNAME:PST
DTSTART:20261101T090000
END:STANDARD
BEGIN:DAYLIGHT
TZOFFSETFROM:-0800
TZOFFSETTO:-0700
TZNAME:PDT
DTSTART:20270314T100000
END:DAYLIGHT
BEGIN:STANDARD
TZOFFSETFROM:-0700
TZOFFSETTO:-0800
TZNAME:PST
DTSTART:20271107T090000
END:STANDARD
END:VTIMEZONE
BEGIN:VTIMEZONE
TZID:UTC
BEGIN:STANDARD
TZOFFSETFROM:+0000
TZOFFSETTO:+0000
TZNAME:UTC
DTSTART:20230101T000000
END:STANDARD
END:VTIMEZONE
BEGIN:VEVENT
DTSTART;TZID=America/Los_Angeles:20260301T180000
DTEND;TZID=America/Los_Angeles:20260301T190000
DTSTAMP:20260423T124349
CREATED:20260116T025904Z
LAST-MODIFIED:20260126T012335Z
UID:788-1772388000-1772391600@arcatanazarene.org
SUMMARY:House of Prayer
DESCRIPTION:
URL:https://arcatanazarene.org/event/house-of-prayer-2/
ATTACH;FMTTYPE=image/png:https://arcatanazarene.org/wp-content/uploads/2024/11/House-of-Prayer.png
END:VEVENT
BEGIN:VEVENT
DTSTART;TZID=America/Los_Angeles:20260125T100000
DTEND;TZID=America/Los_Angeles:20260125T110000
DTSTAMP:20260423T124349
CREATED:20260116T025702Z
LAST-MODIFIED:20260126T012057Z
UID:785-1769335200-1769338800@arcatanazarene.org
SUMMARY:Sunday Worship
DESCRIPTION:
URL:https://arcatanazarene.org/event/sunday-worship/
ATTACH;FMTTYPE=image/jpeg:https://arcatanazarene.org/wp-content/uploads/2026/01/FB_IMG_1768879957802.jpg
END:VEVENT
BEGIN:VEVENT
DTSTART;TZID=UTC:20260123T183000
DTEND;TZID=UTC:20260123T200000
DTSTAMP:20260423T124349
CREATED:20250306T094227Z
LAST-MODIFIED:20260119T092129Z
UID:644-1769193000-1769198400@arcatanazarene.org
SUMMARY:Celebrate Recovery
DESCRIPTION:
URL:https://arcatanazarene.org/event/celebrate-recovery-4/
ATTACH;FMTTYPE=image/png:https://arcatanazarene.org/wp-content/uploads/2025/09/Screenshot-2025-09-16-at-8.27.19-AM.png
END:VEVENT
BEGIN:VEVENT
DTSTART;TZID=UTC:20250516T183000
DTEND;TZID=UTC:20250516T200000
DTSTAMP:20260423T124349
CREATED:20250306T094101Z
LAST-MODIFIED:20250306T094101Z
UID:642-1747420200-1747425600@arcatanazarene.org
SUMMARY:Celebrate Recovery
DESCRIPTION:
URL:https://arcatanazarene.org/event/celebrate-recovery-3/
END:VEVENT
BEGIN:VEVENT
DTSTART;TZID=UTC:20250512T090000
DTEND;TZID=UTC:20250512T110000
DTSTAMP:20260423T124349
CREATED:20250506T210757Z
LAST-MODIFIED:20250506T210757Z
UID:696-1747040400-1747047600@arcatanazarene.org
SUMMARY:Mother's Day
DESCRIPTION:Come join us for brunch at 9:00 and Worship at 10:00. \n  \nMenu 25
URL:https://arcatanazarene.org/event/mothers-day-2/
LOCATION:Arcata Church of the Nazarene
END:VEVENT
BEGIN:VEVENT
DTSTART;TZID=UTC:20250509T183000
DTEND;TZID=UTC:20250509T200000
DTSTAMP:20260423T124349
CREATED:20250306T093959Z
LAST-MODIFIED:20250306T093959Z
UID:640-1746815400-1746820800@arcatanazarene.org
SUMMARY:Celebrate Recovery
DESCRIPTION:
URL:https://arcatanazarene.org/event/celebrate-recovery-2/
END:VEVENT
BEGIN:VEVENT
DTSTART;TZID=UTC:20250502T193000
DTEND;TZID=UTC:20250502T200000
DTSTAMP:20260423T124349
CREATED:20250306T093557Z
LAST-MODIFIED:20250306T093745Z
UID:638-1746214200-1746216000@arcatanazarene.org
SUMMARY:Celebrate Recovery
DESCRIPTION:
URL:https://arcatanazarene.org/event/celebrate-recovery/
END:VEVENT
BEGIN:VEVENT
DTSTART;TZID=UTC:20250425T183000
DTEND;TZID=UTC:20250425T200000
DTSTAMP:20260423T124349
CREATED:20250131T015607Z
LAST-MODIFIED:20250306T092855Z
UID:628-1745605800-1745611200@arcatanazarene.org
SUMMARY:Celebrate Recovery
DESCRIPTION:
URL:https://arcatanazarene.org/event/celebrate-recovery-9/
END:VEVENT
BEGIN:VEVENT
DTSTART;TZID=UTC:20250420T090000
DTEND;TZID=UTC:20250420T110000
DTSTAMP:20260423T124349
CREATED:20250129T043316Z
LAST-MODIFIED:20250129T043316Z
UID:512-1745139600-1745146800@arcatanazarene.org
SUMMARY:Easter Breakfast
DESCRIPTION:Join us for Easter Breakfast at 9:00am before Easter Service at 10:00am \n 
URL:https://arcatanazarene.org/event/easter-breakfast/
END:VEVENT
BEGIN:VEVENT
DTSTART;TZID=UTC:20250418T183000
DTEND;TZID=UTC:20250418T200000
DTSTAMP:20260423T124349
CREATED:20250131T015521Z
LAST-MODIFIED:20250306T092730Z
UID:626-1745001000-1745006400@arcatanazarene.org
SUMMARY:Celebrate Recovery
DESCRIPTION:
URL:https://arcatanazarene.org/event/celebrate-recovery-8/
END:VEVENT
BEGIN:VEVENT
DTSTART;TZID=UTC:20250413T180000
DTEND;TZID=UTC:20250413T193000
DTSTAMP:20260423T124349
CREATED:20250129T042015Z
LAST-MODIFIED:20250129T042015Z
UID:509-1744567200-1744572600@arcatanazarene.org
SUMMARY:Steps To Healing
DESCRIPTION:Steps to Healing Sundays in the Cafe 6:00pm-7:30pm
URL:https://arcatanazarene.org/event/steps-to-healing-16/
END:VEVENT
BEGIN:VEVENT
DTSTART;TZID=UTC:20250411T183000
DTEND;TZID=UTC:20250411T200000
DTSTAMP:20260423T124349
CREATED:20250131T015410Z
LAST-MODIFIED:20250306T092558Z
UID:624-1744396200-1744401600@arcatanazarene.org
SUMMARY:Celebrate Recovery
DESCRIPTION:
URL:https://arcatanazarene.org/event/celebrate-recovery-7/
END:VEVENT
BEGIN:VEVENT
DTSTART;TZID=UTC:20250406T180000
DTEND;TZID=UTC:20250406T193000
DTSTAMP:20260423T124349
CREATED:20250129T041927Z
LAST-MODIFIED:20250129T041927Z
UID:507-1743962400-1743967800@arcatanazarene.org
SUMMARY:Steps To Healing
DESCRIPTION:Steps to Healing Sundays in the Cafe 6:00pm-7:30pm
URL:https://arcatanazarene.org/event/steps-to-healing-15/
END:VEVENT
BEGIN:VEVENT
DTSTART;TZID=UTC:20250404T183000
DTEND;TZID=UTC:20250404T200000
DTSTAMP:20260423T124349
CREATED:20250131T015301Z
LAST-MODIFIED:20250306T092333Z
UID:622-1743791400-1743796800@arcatanazarene.org
SUMMARY:Celebrate Recovery
DESCRIPTION:
URL:https://arcatanazarene.org/event/celebrate-recovery-6/
END:VEVENT
BEGIN:VEVENT
DTSTART;TZID=UTC:20250330T180000
DTEND;TZID=UTC:20250330T193000
DTSTAMP:20260423T124349
CREATED:20250129T041735Z
LAST-MODIFIED:20250129T041735Z
UID:505-1743357600-1743363000@arcatanazarene.org
SUMMARY:Steps To Healing
DESCRIPTION:Steps to Healing Sundays in the Cafe 6:00pm-7:30pm
URL:https://arcatanazarene.org/event/steps-to-healing-14/
END:VEVENT
BEGIN:VEVENT
DTSTART;TZID=UTC:20250323T180000
DTEND;TZID=UTC:20250323T193000
DTSTAMP:20260423T124349
CREATED:20250129T041650Z
LAST-MODIFIED:20250129T041650Z
UID:503-1742752800-1742758200@arcatanazarene.org
SUMMARY:Steps To Healing
DESCRIPTION:Steps to Healing Sundays in the Cafe 6:00pm-7:30pm
URL:https://arcatanazarene.org/event/steps-to-healing-13/
END:VEVENT
BEGIN:VEVENT
DTSTART;TZID=UTC:20250316T180000
DTEND;TZID=UTC:20250316T193000
DTSTAMP:20260423T124349
CREATED:20250129T041224Z
LAST-MODIFIED:20250129T041224Z
UID:493-1742148000-1742153400@arcatanazarene.org
SUMMARY:Steps To Healing
DESCRIPTION:Steps to Healing Sundays in the Cafe 6:00pm-7:30pm
URL:https://arcatanazarene.org/event/steps-to-healing-8/
END:VEVENT
BEGIN:VEVENT
DTSTART;TZID=UTC:20250309T180000
DTEND;TZID=UTC:20250309T193000
DTSTAMP:20260423T124349
CREATED:20250129T041523Z
LAST-MODIFIED:20250129T041523Z
UID:499-1741543200-1741548600@arcatanazarene.org
SUMMARY:Steps To Healing
DESCRIPTION:Steps to Healing Sundays in the Cafe 6:00pm-7:30pm
URL:https://arcatanazarene.org/event/steps-to-healing-11/
END:VEVENT
BEGIN:VEVENT
DTSTART;TZID=UTC:20250302T180000
DTEND;TZID=UTC:20250302T193000
DTSTAMP:20260423T124349
CREATED:20250129T041435Z
LAST-MODIFIED:20250129T041435Z
UID:497-1740938400-1740943800@arcatanazarene.org
SUMMARY:Steps To Healing
DESCRIPTION:Steps to Healing Sundays in the Cafe 6:00pm-7:30pm
URL:https://arcatanazarene.org/event/steps-to-healing-10/
END:VEVENT
BEGIN:VEVENT
DTSTART;TZID=UTC:20250223T180000
DTEND;TZID=UTC:20250223T193000
DTSTAMP:20260423T124349
CREATED:20250129T040939Z
LAST-MODIFIED:20250129T040939Z
UID:489-1740333600-1740339000@arcatanazarene.org
SUMMARY:Steps To Healing
DESCRIPTION:Steps to Healing Sundays in the Cafe 6:00pm-7:30pm
URL:https://arcatanazarene.org/event/steps-to-healing-6/
END:VEVENT
BEGIN:VEVENT
DTSTART;TZID=UTC:20250216T180000
DTEND;TZID=UTC:20250216T193000
DTSTAMP:20260423T124349
CREATED:20250129T040804Z
LAST-MODIFIED:20250129T040804Z
UID:484-1739728800-1739734200@arcatanazarene.org
SUMMARY:Steps To Healing
DESCRIPTION:Steps to Healing Sundays in the Cafe 6:00pm-7:30pm
URL:https://arcatanazarene.org/event/steps-to-healing-4/
END:VEVENT
BEGIN:VEVENT
DTSTART;TZID=UTC:20250209T180000
DTEND;TZID=UTC:20250209T193000
DTSTAMP:20260423T124349
CREATED:20250129T040630Z
LAST-MODIFIED:20250129T040630Z
UID:482-1739124000-1739129400@arcatanazarene.org
SUMMARY:Steps To Healing
DESCRIPTION:Steps to Healing Sundays in the Cafe 6:00pm-7:30pm
URL:https://arcatanazarene.org/event/steps-to-healing-3/
END:VEVENT
BEGIN:VEVENT
DTSTART;TZID=UTC:20250202T180000
DTEND;TZID=UTC:20250202T193000
DTSTAMP:20260423T124349
CREATED:20250129T040440Z
LAST-MODIFIED:20250129T040440Z
UID:480-1738519200-1738524600@arcatanazarene.org
SUMMARY:Steps To Healing
DESCRIPTION:Steps to Healing Sundays in the Cafe 6:00pm-7:30pm
URL:https://arcatanazarene.org/event/steps-to-healing-2/
END:VEVENT
BEGIN:VEVENT
DTSTART;TZID=UTC:20250112T180000
DTEND;TZID=UTC:20250112T193000
DTSTAMP:20260423T124349
CREATED:20241211T025411Z
LAST-MODIFIED:20241211T025411Z
UID:459-1736704800-1736710200@arcatanazarene.org
SUMMARY:Steps to Healing
DESCRIPTION:Steps to healing begins the evening of January 12th\, 2025 starting at 6:00pm.
URL:https://arcatanazarene.org/event/steps-to-healing/
END:VEVENT
BEGIN:VEVENT
DTSTART;TZID=UTC:20250105T100000
DTEND;TZID=UTC:20250105T120000
DTSTAMP:20260423T124349
CREATED:20241211T024911Z
LAST-MODIFIED:20241211T024911Z
UID:456-1736071200-1736078400@arcatanazarene.org
SUMMARY:Annual Celebration and Meeting
DESCRIPTION:Annual Celebration and Meeting will take place on Sunday January 5th from 10am-12pm.
URL:https://arcatanazarene.org/event/annual-celebration-and-meeting/
END:VEVENT
BEGIN:VEVENT
DTSTART;TZID=UTC:20241124T110000
DTEND;TZID=UTC:20241124T120000
DTSTAMP:20260423T124349
CREATED:20241011T031218Z
LAST-MODIFIED:20241107T011338Z
UID:423-1732446000-1732449600@arcatanazarene.org
SUMMARY:Christmas Tree Decorating (Sunday After Service)
DESCRIPTION:Plan to stay after service for soup\, sandwiches\, and tree decorating.
URL:https://arcatanazarene.org/event/potluck-and-christmas-tree-decorating/
END:VEVENT
BEGIN:VEVENT
DTSTART;TZID=UTC:20241117T180000
DTEND;TZID=UTC:20241117T193000
DTSTAMP:20260423T124349
CREATED:20241107T012256Z
LAST-MODIFIED:20241107T012256Z
UID:454-1731866400-1731871800@arcatanazarene.org
SUMMARY:Family Game Night and Potluck
DESCRIPTION:Family Game Night and Potluck Happening Sunday 11/17 starting at 6pm in the Cafe.
URL:https://arcatanazarene.org/event/family-game-night-and-potluck/
END:VEVENT
BEGIN:VEVENT
DTSTART;TZID=UTC:20241110T180000
DTEND;TZID=UTC:20241110T190000
DTSTAMP:20260423T124349
CREATED:20241107T011553Z
LAST-MODIFIED:20241107T011553Z
UID:448-1731261600-1731265200@arcatanazarene.org
SUMMARY:House of Prayer
DESCRIPTION:Join us in the sanctuary for an hour of prayer and worship. No food served.
URL:https://arcatanazarene.org/event/house-of-prayer/
END:VEVENT
BEGIN:VEVENT
DTSTART;TZID=UTC:20241103T180000
DTEND;TZID=UTC:20241103T193000
DTSTAMP:20260423T124349
CREATED:20240815T021835Z
LAST-MODIFIED:20241009T062809Z
UID:402-1730656800-1730662200@arcatanazarene.org
SUMMARY:Dinner & Dialogue
DESCRIPTION:Dinner & Dialogue \nElephants in the Church: Conversations We Can’t Afford To Ignore.  \n7-Week Study Meeting Sunday Evenings from September 8th- November 3rd\, 2024 at 6pm in the café.
URL:https://arcatanazarene.org/event/dinner-dialogue-9/
END:VEVENT
BEGIN:VEVENT
DTSTART;TZID=UTC:20241027T180000
DTEND;TZID=UTC:20241027T193000
DTSTAMP:20260423T124349
CREATED:20240815T021652Z
LAST-MODIFIED:20241009T062601Z
UID:400-1730052000-1730057400@arcatanazarene.org
SUMMARY:Dinner & Dialogue
DESCRIPTION:Dinner & Dialogue \nElephants in the Church: Conversations We Can’t Afford To Ignore.  \n7-Week Study Meeting Sunday Evenings from September 8th- November 3rd\, 2024 at 6pm in the café.
URL:https://arcatanazarene.org/event/dinner-dialogue-8/
END:VEVENT
END:VCALENDAR