BEGIN:VCALENDAR
VERSION:2.0
PRODID:-//Arcata Church Of The Nazarene - ECPv6.15.20//NONSGML v1.0//EN
CALSCALE:GREGORIAN
METHOD:PUBLISH
X-WR-CALNAME:Arcata Church Of The Nazarene
X-ORIGINAL-URL:https://arcatanazarene.org
X-WR-CALDESC:Events for Arcata Church Of The Nazarene
REFRESH-INTERVAL;VALUE=DURATION:PT1H
X-Robots-Tag:noindex
X-PUBLISHED-TTL:PT1H
BEGIN:VTIMEZONE
TZID:UTC
BEGIN:STANDARD
TZOFFSETFROM:+0000
TZOFFSETTO:+0000
TZNAME:UTC
DTSTART:20230101T000000
END:STANDARD
END:VTIMEZONE
BEGIN:VEVENT
DTSTART;TZID=UTC:20240908T180000
DTEND;TZID=UTC:20240908T190000
DTSTAMP:20260424T161056
CREATED:20240815T020008Z
LAST-MODIFIED:20240815T020008Z
UID:384-1725818400-1725822000@arcatanazarene.org
SUMMARY:Dinner & Dialogue
DESCRIPTION:Dinner & Dialogue \nElephants in the Church: Conversations We Can’t Afford To Ignore.  \n7-Week Study Meeting Sunday Evenings from September 8th- November 3rd\, 2024 at 6pm in the café.
URL:https://arcatanazarene.org/event/dinner-dialogue/
END:VEVENT
END:VCALENDAR